BEGIN:VCALENDAR
VERSION:2.0
PRODID:-//OZVVS Slovenske Konjice - ECPv4.9.8//NONSGML v1.0//EN
CALSCALE:GREGORIAN
METHOD:PUBLISH
X-WR-CALNAME:OZVVS Slovenske Konjice
X-ORIGINAL-URL:http://ozvvs-slovenskekonjice.si
X-WR-CALDESC:Events for OZVVS Slovenske Konjice
BEGIN:VTIMEZONE
TZID:Europe/Paris
BEGIN:DAYLIGHT
TZOFFSETFROM:+0100
TZOFFSETTO:+0200
TZNAME:CEST
DTSTART:20260329T010000
END:DAYLIGHT
BEGIN:STANDARD
TZOFFSETFROM:+0200
TZOFFSETTO:+0100
TZNAME:CET
DTSTART:20261025T010000
END:STANDARD
END:VTIMEZONE
BEGIN:VEVENT
DTSTART;VALUE=DATE:20260613
DTEND;VALUE=DATE:20260614
DTSTAMP:20260421T184312
CREATED:20260129T190925Z
LAST-MODIFIED:20260129T190925Z
UID:7422-1781308800-1781395199@ozvvs-slovenskekonjice.si
SUMMARY:Veteranske športne igre ZVVS
DESCRIPTION:
URL:http://ozvvs-slovenskekonjice.si/dogodek/veteranske-sportne-igre-zvvs/
END:VEVENT
END:VCALENDAR