BEGIN:VCALENDAR
VERSION:2.0
PRODID:-//OZVVS Slovenske Konjice - ECPv4.9.8//NONSGML v1.0//EN
CALSCALE:GREGORIAN
METHOD:PUBLISH
X-WR-CALNAME:OZVVS Slovenske Konjice
X-ORIGINAL-URL:http://ozvvs-slovenskekonjice.si
X-WR-CALDESC:Events for OZVVS Slovenske Konjice
BEGIN:VTIMEZONE
TZID:Europe/Paris
BEGIN:DAYLIGHT
TZOFFSETFROM:+0100
TZOFFSETTO:+0200
TZNAME:CEST
DTSTART:20260329T010000
END:DAYLIGHT
BEGIN:STANDARD
TZOFFSETFROM:+0200
TZOFFSETTO:+0100
TZNAME:CET
DTSTART:20261025T010000
END:STANDARD
END:VTIMEZONE
BEGIN:VEVENT
DTSTART;VALUE=DATE:20260517
DTEND;VALUE=DATE:20260518
DTSTAMP:20260421T160843
CREATED:20260129T190423Z
LAST-MODIFIED:20260129T190423Z
UID:7414-1778976000-1779062399@ozvvs-slovenskekonjice.si
SUMMARY:DAN VETERANOV - VAČE
DESCRIPTION:
URL:http://ozvvs-slovenskekonjice.si/dogodek/dan-veteranov-vace/
END:VEVENT
END:VCALENDAR