BEGIN:VCALENDAR
VERSION:2.0
PRODID:-//OZVVS Slovenske Konjice - ECPv4.9.8//NONSGML v1.0//EN
CALSCALE:GREGORIAN
METHOD:PUBLISH
X-WR-CALNAME:OZVVS Slovenske Konjice
X-ORIGINAL-URL:http://ozvvs-slovenskekonjice.si
X-WR-CALDESC:Events for OZVVS Slovenske Konjice
BEGIN:VTIMEZONE
TZID:Europe/Paris
BEGIN:DAYLIGHT
TZOFFSETFROM:+0100
TZOFFSETTO:+0200
TZNAME:CEST
DTSTART:20260329T010000
END:DAYLIGHT
BEGIN:STANDARD
TZOFFSETFROM:+0200
TZOFFSETTO:+0100
TZNAME:CET
DTSTART:20261025T010000
END:STANDARD
END:VTIMEZONE
BEGIN:VEVENT
DTSTART;VALUE=DATE:20261226
DTEND;VALUE=DATE:20261227
DTSTAMP:20260422T060323
CREATED:20251120T091029Z
LAST-MODIFIED:20251120T091029Z
UID:7305-1798243200-1798329599@ozvvs-slovenskekonjice.si
SUMMARY:Dan samostojnosti in enotnosti
DESCRIPTION:
URL:http://ozvvs-slovenskekonjice.si/dogodek/dan-samostojnosti-in-enotnosti-6/
END:VEVENT
END:VCALENDAR